BEGIN:VCALENDAR
VERSION:2.0
PRODID:-//eventon.com NONSGML v1.0//EN
CALSCALE:GREGORIAN
METHOD:PUBLISH
BEGIN:VEVENT
UID:69e6fe6bbe5ef
DTSTAMP:20260421T043451Z
DTSTART:20250515T130000Z
DTEND:20250515T200000Z
LOCATION:I-Hotel and Conference Center 1900 S. 1st St
SUMMARY:Pediatric Mental Health Conference
DESCRIPTION:Join the Illinois Chapter\,  American Academy of Pediatrics and
  Illinois DocAssist for our first in-person Pediatric Mental Health Confere
 nce! Registration closed May 1\,  2025. If you would like to get on the wai
 tlist to attend\,  please contact Stephanie Atella\nhttps://illinoisaap.org
 /events/pediatric-mental-health-conference/
URL:https://illinoisaap.org/events/pediatric-mental-health-conference/
END:VEVENT
END:VCALENDAR